BEGIN:VCALENDAR
VERSION:2.0
PRODID:-//Simon Fluri - ECPv6.15.20//NONSGML v1.0//EN
CALSCALE:GREGORIAN
METHOD:PUBLISH
X-WR-CALNAME:Simon Fluri
X-ORIGINAL-URL:https://simonfluri.com
X-WR-CALDESC:Veranstaltungen für Simon Fluri
REFRESH-INTERVAL;VALUE=DURATION:PT1H
X-Robots-Tag:noindex
X-PUBLISHED-TTL:PT1H
BEGIN:VTIMEZONE
TZID:Europe/Helsinki
BEGIN:DAYLIGHT
TZOFFSETFROM:+0200
TZOFFSETTO:+0300
TZNAME:EEST
DTSTART:20250330T010000
END:DAYLIGHT
BEGIN:STANDARD
TZOFFSETFROM:+0300
TZOFFSETTO:+0200
TZNAME:EET
DTSTART:20251026T010000
END:STANDARD
BEGIN:DAYLIGHT
TZOFFSETFROM:+0200
TZOFFSETTO:+0300
TZNAME:EEST
DTSTART:20260329T010000
END:DAYLIGHT
BEGIN:STANDARD
TZOFFSETFROM:+0300
TZOFFSETTO:+0200
TZNAME:EET
DTSTART:20261025T010000
END:STANDARD
BEGIN:DAYLIGHT
TZOFFSETFROM:+0200
TZOFFSETTO:+0300
TZNAME:EEST
DTSTART:20270328T010000
END:DAYLIGHT
BEGIN:STANDARD
TZOFFSETFROM:+0300
TZOFFSETTO:+0200
TZNAME:EET
DTSTART:20271031T010000
END:STANDARD
END:VTIMEZONE
BEGIN:VEVENT
DTSTART;TZID=Europe/Helsinki:20260415T200000
DTEND;TZID=Europe/Helsinki:20260415T213000
DTSTAMP:20260422T135351
CREATED:20250911T230243Z
LAST-MODIFIED:20260228T000657Z
UID:1829-1776283200-1776288600@simonfluri.com
SUMMARY:Unter den Sternen
DESCRIPTION:Harmonie der Sphären \n\n\n\nMit grosser Freude präsentieren wir die dritte Edition der Turmkonzerte. In luftiger Höhe laden wir Sie zu einem aussergewöhnlichen Konzerterlebnis ein\, das Musik und Astronomie verbindet. \n\n\n\nUrania SternwarteDienstag\, 14.04.2026 & Mittwoch\, 15.04.202620:00 Konzert & Führung \n\n\n\nZum Programm \n\n\n\nEröffnet wird das Konzert mit den ersten beiden Sätzen von Saxophonesques von Fernande Decruck. Die wechselnden Sechzehntelläufe wirken wie eine Endlosschleife und lassen die Weite des Universums hörbar werden. Der zweite Satz führt zur Duo-Sonate von Wilhelm Friedemann Bach\, deren empfindsamer Stil die Idee von Kontinuität weiter vertieft und dem Programm emotionale Tiefe verleiht. \n\n\n\nIm Zentrum steht Saxony von James Tenney: Vier Saxophone – Sopran\, Alt\, Tenor und Bariton – entfalten gemeinsam mit Elektronik die Obertonreihe. Eine kurze Einführung zur Sphärenharmonie bereitet Sie auf die atmosphärische Musik vor und lädt Sie ein\, den Sternenhimmel zu beobachten und über das Gehörte nachzudenken. Es folgt Suffering in Three Scenes von Wojciech Chałupka\, eine Reflexion des menschlichen Daseins. Den Abschluss bildet Black von Marc Mellits\, dessen kraftvolle\, hypnotische Rhythmen wie ein schwarzes Loch das Publikum in einen dichten Klangraum zieht und noch lange nachwirkt. \n\n\n\nAstronomische Führung \n\n\n\nBegleitet werden die Konzerte von Texten und Anekdoten von Astrophysiker Urs Scheifele. Ausgehend von der Obertonreihe in Saxony erklärt er die Idee der Sphärenharmonie – erstmals von Pythagoras erwähnt und später von Platon und Kepler weiterentwickelt – und verbindet sie mit der gespielten Musik. Visuelle Projektionen mit Bildern und Animationen vertiefen das Erlebnis. Im Anschluss an das Konzert wird die astronomische Führung noch vertieft und zu Ende geführt. \n\n\n\nMitwirkende \n\n\n\nSimon Fluri & Sira Pellicer – SaxophoneUrs Scheifele – Astronomische Führung und Lesung \n\n\n\n\n\n\n\n\n\n\n\nTurmkonzerte 2026 FlyerDownload
URL:https://simonfluri.com/agenda/unter-den-sternen-4/
LOCATION:Urania Sternwarte\, Uraniastrasse 9\, Zürich\, 8001
END:VEVENT
END:VCALENDAR