BEGIN:VCALENDAR
VERSION:2.0
PRODID:-//Simon Fluri - ECPv6.15.20//NONSGML v1.0//EN
CALSCALE:GREGORIAN
METHOD:PUBLISH
X-ORIGINAL-URL:https://simonfluri.com
X-WR-CALDESC:Veranstaltungen für Simon Fluri
REFRESH-INTERVAL;VALUE=DURATION:PT1H
X-Robots-Tag:noindex
X-PUBLISHED-TTL:PT1H
BEGIN:VTIMEZONE
TZID:Europe/Paris
BEGIN:DAYLIGHT
TZOFFSETFROM:+0100
TZOFFSETTO:+0200
TZNAME:CEST
DTSTART:20250330T010000
END:DAYLIGHT
BEGIN:STANDARD
TZOFFSETFROM:+0200
TZOFFSETTO:+0100
TZNAME:CET
DTSTART:20251026T010000
END:STANDARD
BEGIN:DAYLIGHT
TZOFFSETFROM:+0100
TZOFFSETTO:+0200
TZNAME:CEST
DTSTART:20260329T010000
END:DAYLIGHT
BEGIN:STANDARD
TZOFFSETFROM:+0200
TZOFFSETTO:+0100
TZNAME:CET
DTSTART:20261025T010000
END:STANDARD
BEGIN:DAYLIGHT
TZOFFSETFROM:+0100
TZOFFSETTO:+0200
TZNAME:CEST
DTSTART:20270328T010000
END:DAYLIGHT
BEGIN:STANDARD
TZOFFSETFROM:+0200
TZOFFSETTO:+0100
TZNAME:CET
DTSTART:20271031T010000
END:STANDARD
END:VTIMEZONE
BEGIN:VEVENT
DTSTART;TZID=Europe/Paris:20261018T170000
DTEND;TZID=Europe/Paris:20261018T180000
DTSTAMP:20260421T102314
CREATED:20260220T113943Z
LAST-MODIFIED:20260316T115834Z
UID:1931-1792342800-1792346400@simonfluri.com
SUMMARY:Lamineur-Quartett: Abendmusik
DESCRIPTION:
URL:https://simonfluri.com/agenda/lamineur-abendmusik/
LOCATION:Kirche Aegerten\, Bürglen\, Bern\, 2558
END:VEVENT
END:VCALENDAR