BEGIN:VCALENDAR
VERSION:2.0
PRODID:-//Simon Fluri - ECPv6.15.20//NONSGML v1.0//EN
CALSCALE:GREGORIAN
METHOD:PUBLISH
X-WR-CALNAME:Simon Fluri
X-ORIGINAL-URL:https://simonfluri.com/en
X-WR-CALDESC:Events for Simon Fluri
REFRESH-INTERVAL;VALUE=DURATION:PT1H
X-Robots-Tag:noindex
X-PUBLISHED-TTL:PT1H
BEGIN:VTIMEZONE
TZID:Europe/Paris
BEGIN:DAYLIGHT
TZOFFSETFROM:+0100
TZOFFSETTO:+0200
TZNAME:CEST
DTSTART:20250330T010000
END:DAYLIGHT
BEGIN:STANDARD
TZOFFSETFROM:+0200
TZOFFSETTO:+0100
TZNAME:CET
DTSTART:20251026T010000
END:STANDARD
BEGIN:DAYLIGHT
TZOFFSETFROM:+0100
TZOFFSETTO:+0200
TZNAME:CEST
DTSTART:20260329T010000
END:DAYLIGHT
BEGIN:STANDARD
TZOFFSETFROM:+0200
TZOFFSETTO:+0100
TZNAME:CET
DTSTART:20261025T010000
END:STANDARD
BEGIN:DAYLIGHT
TZOFFSETFROM:+0100
TZOFFSETTO:+0200
TZNAME:CEST
DTSTART:20270328T010000
END:DAYLIGHT
BEGIN:STANDARD
TZOFFSETFROM:+0200
TZOFFSETTO:+0100
TZNAME:CET
DTSTART:20271031T010000
END:STANDARD
END:VTIMEZONE
BEGIN:VEVENT
DTSTART;TZID=Europe/Paris:20260523T193000
DTEND;TZID=Europe/Paris:20260523T220000
DTSTAMP:20260424T125821
CREATED:20260119T224658Z
LAST-MODIFIED:20260320T131221Z
UID:1908-1779564600-1779573600@simonfluri.com
SUMMARY:Tonhalle Zürich: Internationale Orgeltage
DESCRIPTION:Die Internationalen Orgeltage Zürich laden auch 2026 am Pfingstwochenende zu einem abwechslungsreichen und hochkarätigen Programm ein. Bekanntes und Unbekanntes\, Vertrautes und Überraschendes fügen sich zu einem bunten Mosaik zusammen\, in dessen Zentrum die grandiose Kuhn-Orgel in all ihren Facetten erstrahlen wird. \n\n\n\nGleich zwei besondere Instrumentalformationen treten an diesem Abend in einen Dialog mit zwei Meistern ihres Fachs an der Orgel: Die Blechbläser von German Brass und der in Zürich wohlbekannte Orgel-Experte Christian Schmitt verbinden ihre Klangwelten in einem Programm\, das mit Mussorgskis «Bildern einer Ausstellung» einen virtuosen Gipfel erreicht. Der an Saint-Sulpice in Paris wirkende Organist Karol Mossakowski konzertiert zusammen mit den jungen Musiker*innen des Zürich Saxophone Collective in überraschenden\, feinsinnigen Arrangements\, die er mit seiner Improvisationskunst zu einem klingenden Ganzen verweben wird. Kammermusik der Extraklasse!
URL:https://simonfluri.com/en/agenda/tonhalle-zuerich-internationale-orgeltage/
LOCATION:Tonhalle Zürich\, Claridenstrasse 7\, Zürich\, 8002
END:VEVENT
END:VCALENDAR